Workbook

Sheet Crop Plan
A1: Farmer X Field History
A3: Field | B3: Qtr | C3: Sec | D3: Twn | E3: Rg | F3: Mer | G3: Acres | H3: 2027 Crop | I3: 2027 Variety | J3: 2026 Crop | K3: 2026 Variety | L3: 2025 Crop | M3: 2025 Variety | N3: 2024 Crop | O3: 2024 Variety | P3: 2023 Crop | Q3: 2023 Variety | R3: 2022 Crop | S3: 2022 Variety | T3: 2021 Crop | U3: 2021 Variety | V3: Field Notes
A4: Field 1 | B4: SW | G4: 75 | H4: Canola | J4: Barley | L4: Durum | N4: Barley | P4: Canola | R4: Silage | T4: Canola
A5: Field 2 | B5: SE | G5: 55 | H5: Durum | J5: Canola | K5: LL | L5: Chickpeas | N5: Durum | P5: Lentils | R5: Durum | T5: Lentils
A6: Field 3 | B6: NE,NW | G6: 270 | H6: Durum | J6: Canola | K6: LL | L6: Durum | N6: Lentils | P6: Durum | R6: Lentils | T6: Canola
A7: Field 4 | B7: SE | G7: 115 | H7: Durum | J7: Canola | K7: LL | L7: Lentils | N7: Durum | P7: Canola | R7: Lentils
A8: Field 5 | B8: NH | G8: 255 | H8: Durum | J8: Canola | K8: LL | L8: Durum | N8: Durum | P8: Flax
A9: Field 6 | B9: SH | G9: 285 | H9: Durum | J9: Canola | K9: LL | L9: Durum | N9: Canola | P9: Lentils | R9: Canola | T9: Durum
A10: Field 7 | B10: SW,NW | G10: 225 | H10: Durum | J10: Canola | K10: LL | L10: Durum | N10: Chickpeas | P10: Canola | R10: Durum | T10: Lentils
A11: Field 8 | B11: NE | G11: 110 | H11: Durum | J11: Canola | K11: LL | L11: Chickpeas | N11: Durum | P11: Lentils | R11: Durum | T11: Pasture
A12: Field 9 | B12: SH | G12: 85 | H12: Peas | J12: Canola | K12: LL | L12: Durum
A13: Field 10 | B13: NH, SE | G13: 405 | H13: Peas | J13: Canola | K13: LL | L13: Lentils | N13: Durum | P13: Canola | R13: Oats
A14: Field 11 | B14: NE | G14: 150 | H14: Lentils | J14: Canola | K14: LL | L14: Lentils | N14: Durum | P14: Canola | R14: Oats
A15: Field 12 | B15: EH,WH,NE | G15: 780 | H15: Wheat | J15: Chickpeas | K15: Kablui | L15: Durum | N15: Lentils | P15: Canola | R15: Durum | T15: Chickpeas
A16: Field 13 | B16: NE | G16: 110 | H16: Wheat | J16: Chickpeas | K16: Kablui | L16: Durum | N16: Canola
A17: Field 14 | B17: AL | G17: 580 | H17: Canola | J17: Durum | L17: Chickpeas | N17: Canola | P17: Durum | R17: Lentils
A18: Field 15 | B18: SH | G18: 180 | H18: Canola | J18: Durum | L18: Lentils | N18: Durum | P18: Canola | R18: Lentils | T18: Canola
A19: Field 16 | G19: 110 | H19: Canola | J19: Durum | L19: Durum
A20: Field 17 | G20: 240 | H20: Canola | J20: Durum | L20: Lentils | N20: Canola | P20: Chickpeas | R20: Durum | T20: Lentils
A21: Field 18 | G21: 145 | H21: Canola | J21: Durum | L21: Canola | N21: Durum | P21: Lentils | R21: Canola | T21: Tricale
A22: Field 19 | G22: 240 | H22: Canola | J22: Durum | L22: Chickpeas | N22: Canola | P22: Chickpeas | R22: Durum | T22: Lentils
A23: Field 20 | G23: 260 | H23: Canola | J23: Durum | L23: Durum | N23: Canola | P23: Durum | R23: Hay
A24: Field 21 | G24: 310 | H24: Canola | J24: Durum | L24: Lentils | N24: Durum | P24: Chickpeas | R24: Canola | T24: Durum
A25: Field 22 | G25: 665 | H25: Wheat | J25: Lentils | L25: Durum | N25: Chickpeas | P25: Durum | R25: Lentils | T25: Canola
A26: Field 23 | G26: 525 | H26: Wheat | J26: Lentils | L26: Canola | N26: Durum | P26: Lentils | R26: Canola | T26: Durum
A27: Field 24 | G27: 650 | H27: Wheat | J27: Lentils | L27: Canola | N27: Chickpeas | P27: Durum | R27: Chickpeas | T27: Durum
J30: 2026 | L30: 2025 | N30: 2024 | P30: 2023 | R30: 2022 | T30: 2021
G31: Durum | H31: =SUMIF($H$4:$H$27,G31,$G$4:$G$27) -> 1315 | I31: =H31/$N$39 -> 0.19834087 | J31: =SUMIF($J$4:$J$27,G31,$G$4:$G$27) -> 2065 | K31: =J31/$N$39 -> 0.31146305 | L31: =SUMIF($L$4:$L$27,G31,$G$4:$G$27) -> 3120 | M31: =L31/$N$39 -> 0.47058824 | N31: =SUMIF($N$4:$N$27,G31,$G$4:$G$27) -> 2250 | O31: =N31/$N$39 -> 0.33936652 | P31: =SUMIF($P$4:$P$27,G31,$G$4:$G$27) -> 2425 | Q31: =P31/$P$39 -> 0.38707103 | R31: =SUMIF($R$4:$R$27,G31,$G$4:$G$27) -> 1650 | S31: =R31/$R$39 -> 0.30697674 | T31: =SUMIF($T$4:$T$27,G31,$G$4:$G$27) -> 1770 | U31: =T31/$T$39 -> 0.39333333
G32: Wheat | H32: =SUMIF($H$4:$H$27,G32,$G$4:$G$27) -> 2730 | I32: =H32/$N$39 -> 0.41176471 | J32: =SUMIF($J$4:$J$27,G32,$G$4:$G$27) -> 0 | K32: =J32/$N$39 -> 0 | L32: =SUMIF($L$4:$L$27,G32,$G$4:$G$27) -> 0 | M32: =L32/$N$39 -> 0 | N32: =SUMIF($N$4:$N$27,G32,$G$4:$G$27) -> 0 | O32: =N32/$N$39 -> 0 | P32: =SUMIF($P$4:$P$27,G32,$G$4:$G$27) -> 0 | Q32: =P32/$P$39 -> 0 | R32: =SUMIF($R$4:$R$27,G32,$G$4:$G$27) -> 0 | S32: =R32/$R$39 -> 0 | T32: =SUMIF($T$4:$T$27,G32,$G$4:$G$27) -> 0 | U32: =T32/$T$39 -> 0
G33: Canola | H33: =SUMIF($H$4:$H$27,G33,$G$4:$G$27) -> 2140 | I33: =H33/$N$39 -> 0.32277526 | J33: =SUMIF($J$4:$J$27,G33,$G$4:$G$27) -> 1955 | K33: =J33/$N$39 -> 0.29487179 | L33: =SUMIF($L$4:$L$27,G33,$G$4:$G$27) -> 1320 | M33: =L33/$N$39 -> 0.19909502 | N33: =SUMIF($N$4:$N$27,G33,$G$4:$G$27) -> 1715 | O33: =N33/$N$39 -> 0.2586727 | P33: =SUMIF($P$4:$P$27,G33,$G$4:$G$27) -> 1930 | Q33: =P33/$P$39 -> 0.30806065 | R33: =SUMIF($R$4:$R$27,G33,$G$4:$G$27) -> 1265 | S33: =R33/$R$39 -> 0.23534884 | T33: =SUMIF($T$4:$T$27,G33,$G$4:$G$27) -> 1190 | U33: =T33/$T$39 -> 0.26444444
G34: Lentils | H34: =SUMIF($H$4:$H$27,G34,$G$4:$G$27) -> 150 | I34: =H34/$N$39 -> 0.022624434 | J34: =SUMIF($J$4:$J$27,G34,$G$4:$G$27) -> 1840 | K34: =J34/$N$39 -> 0.2775264 | L34: =SUMIF($L$4:$L$27,G34,$G$4:$G$27) -> 1400 | M34: =L34/$N$39 -> 0.21116139 | N34: =SUMIF($N$4:$N$27,G34,$G$4:$G$27) -> 1050 | O34: =N34/$N$39 -> 0.15837104 | P34: =SUMIF($P$4:$P$27,G34,$G$4:$G$27) -> 1120 | Q34: =P34/$P$39 -> 0.17877095 | R34: =SUMIF($R$4:$R$27,G34,$G$4:$G$27) -> 1810 | S34: =R34/$R$39 -> 0.33674419 | T34: =SUMIF($T$4:$T$27,G34,$G$4:$G$27) -> 760 | U34: =T34/$T$39 -> 0.16888889
G35: Chickpeas | H35: =SUMIF($H$4:$H$27,G35,$G$4:$G$27) -> 0 | I35: =H35/$N$39 -> 0 | J35: =SUMIF($J$4:$J$27,G35,$G$4:$G$27) -> 890 | K35: =J35/$N$39 -> 0.13423831 | L35: =SUMIF($L$4:$L$27,G35,$G$4:$G$27) -> 985 | M35: =L35/$N$39 -> 0.14856712 | N35: =SUMIF($N$4:$N$27,G35,$G$4:$G$27) -> 1540 | O35: =N35/$N$39 -> 0.23227753 | P35: =SUMIF($P$4:$P$27,G35,$G$4:$G$27) -> 790 | Q35: =P35/$P$39 -> 0.12609737 | R35: =SUMIF($R$4:$R$27,G35,$G$4:$G$27) -> 650 | S35: =R35/$R$39 -> 0.12093023 | T35: =SUMIF($T$4:$T$27,G35,$G$4:$G$27) -> 780 | U35: =T35/$T$39 -> 0.17333333
G36: Peas | H36: =SUMIF($H$4:$H$27,G36,$G$4:$G$27) -> 490 | I36: =H36/$N$39 -> 0.073906486 | J36: =SUMIF($J$4:$J$27,G36,$G$4:$G$27) -> 0 | K36: =J36/$N$39 -> 0 | L36: =SUMIF($L$4:$L$27,G36,$G$4:$G$27) -> 0 | M36: =L36/$N$39 -> 0 | N36: =SUMIF($N$4:$N$27,G36,$G$4:$G$27) -> 0 | O36: =N36/$N$39 -> 0 | P36: =SUMIF($P$4:$P$27,G36,$G$4:$G$27) -> 0 | Q36: =P36/$P$39 -> 0 | R36: =SUMIF($R$4:$R$27,G36,$G$4:$G$27) -> 0 | S36: =R36/$R$39 -> 0 | T36: =SUMIF($T$4:$T$27,G36,$G$4:$G$27) -> 0 | U36: =T36/$T$39 -> 0
G37: Barley | H37: =SUMIF($H$4:$H$27,G37,$G$4:$G$27) -> 0 | I37: =H37/$N$39 -> 0 | J37: =SUMIF($J$4:$J$27,G37,$G$4:$G$27) -> 75 | K37: =J37/$N$39 -> 0.011312217 | L37: =SUMIF($L$4:$L$27,G37,$G$4:$G$27) -> 0 | M37: =L37/$N$39 -> 0 | N37: =SUMIF($N$4:$N$27,G37,$G$4:$G$27) -> 75 | O37: =N37/$N$39 -> 0.011312217 | P37: =SUMIF($P$4:$P$27,G37,$G$4:$G$27) -> 0 | Q37: =P37/$P$39 -> 0 | R37: =SUMIF($R$4:$R$27,G37,$G$4:$G$27) -> 0 | S37: =R37/$R$39 -> 0 | T37: =SUMIF($T$4:$T$27,G37,$G$4:$G$27) -> 0 | U37: =T37/$T$39 -> 0
G38: Flax | H38: =SUMIF($H$4:$H$27,G38,$G$4:$G$27) -> 0 | I38: =H38/$N$39 -> 0 | J38: =SUMIF($J$4:$J$27,G38,$G$4:$G$27) -> 0 | K38: =J38/$N$39 -> 0 | L38: =SUMIF($L$4:$L$27,G38,$G$4:$G$27) -> 0 | M38: =L38/$N$39 -> 0 | N38: =SUMIF($N$4:$N$27,G38,$G$4:$G$27) -> 0 | O38: =N38/$N$39 -> 0 | P38: =SUMIF($P$4:$P$27,G38,$G$4:$G$27) -> 255 | Q38: =P38/$P$39 -> 0.040702314 | R38: =SUMIF($R$4:$R$27,G38,$G$4:$G$27) -> 0 | S38: =R38/$R$39 -> 0 | T38: =SUMIF($T$4:$T$27,G38,$G$4:$G$27) -> 0 | U38: =T38/$T$39 -> 0
H39: =SUM(H31:H38) -> 6825 | J39: =SUM(J31:J38) -> 6825 | L39: =SUM(L31:L37) -> 6825 | N39: =SUM(N31:N37) -> 6630 | P39: =SUM(P31:P36) -> 6265 | R39: =SUM(R31:R36) -> 5375 | T39: =SUM(T31:T36) -> 4500

Sheet Sheet1
A1: FARMER X Fertility Plan
E3: Yield goal | F3: Seed rate | G3: Highest Fertility Actual Nurtients Applied | K3: Seed Row Product | N3: Seed Row Product Rate | Q3: MR Product | Y3: SR | AA3: dl mr
A4: Field | B4: Acres | C4: 2027 Crop | D4: 2027 Variety | E4: bu/ac | F4: lbs/ac | G4: N | H4: P | I4: K | J4: S | P4: SR MT | U4: MR Product Rate | W4: MR MT | Y4: n | Z4: p | AA4: n | AB4: p | AC4: k | AD4: s
A5: Field 1 | B5: 95 | C5: =VLOOKUP(A5,'Crop Plan'!$A$4:$K$27,8,FALSE) -> Canola | D5: =VLOOKUP(A5,'Crop Plan'!$A$4:$K$27,9,FALSE) -> 0 | E5: 70 | G5: =SUM(Y5,AA5,) -> 61.1 | H5: =SUM(Z5,AB5) -> 20.7 | I5: =AC5 -> 0 | J5: =AD5 -> 13.6 | K5: 11 | L5: 52 | M5: 0 | N5: 30 | O5: lbs/ac | P5: =(N5*B5)/2204.6 -> 1.2927515 | Q5: 34 | R5: 3 | S5: 0 | T5: 8 | U5: 170 | V5: lbs/ac | W5: =((U5*B5)/2204.6) -> 7.3255919 | Y5: =$N5*(K5/100) -> 3.3 | Z5: =$N5*(L5/100) -> 15.6 | AA5: =$U5*(Q5/100) -> 57.8 | AB5: =$U5*(R5/100) -> 5.1 | AC5: =$U5*(S5/100) -> 0 | AD5: =$U5*(T5/100) -> 13.6
A6: Field 2 | B6: 96 | C6: =VLOOKUP(A6,'Crop Plan'!$A$4:$K$27,8,FALSE) -> Durum | D6: =VLOOKUP(A6,'Crop Plan'!$A$4:$K$27,9,FALSE) -> 0 | E6: 71 | G6: =SUM(Y6,AA6,) -> 62.29 | H6: =SUM(Z6,AB6) -> 20.7 | I6: =AC6 -> 8.5 | J6: =AD6 -> 8.5 | K6: 11 | L6: 52 | M6: 0 | N6: 30 | O6: lbs/ac | P6: =(N6*B6)/2204.6 -> 1.3063594 | Q6: 34.7 | R6: 3 | S6: 5 | T6: 5 | U6: 170 | V6: lbs/ac | W6: =((U6*B6)/2204.6) -> 7.4027034 | Y6: =$N6*(K6/100) -> 3.3 | Z6: =$N6*(L6/100) -> 15.6 | AA6: =$U6*(Q6/100) -> 58.99 | AB6: =$U6*(R6/100) -> 5.1 | AC6: =$U6*(S6/100) -> 8.5 | AD6: =$U6*(T6/100) -> 8.5
A7: Field 3 | B7: 97 | C7: =VLOOKUP(A7,'Crop Plan'!$A$4:$K$27,8,FALSE) -> Durum | D7: =VLOOKUP(A7,'Crop Plan'!$A$4:$K$27,9,FALSE) -> 0 | E7: 72 | G7: =SUM(Y7,AA7,) -> 62.29 | H7: =SUM(Z7,AB7) -> 20.7 | I7: =AC7 -> 8.5 | J7: =AD7 -> 8.5 | K7: 11 | L7: 52 | M7: 0 | N7: 30 | O7: lbs/ac | P7: =(N7*B7)/2204.6 -> 1.3199673 | Q7: 34.7 | R7: 3 | S7: 5 | T7: 5 | U7: 170 | V7: lbs/ac | W7: =((U7*B7)/2204.6) -> 7.4798149 | Y7: =$N7*(K7/100) -> 3.3 | Z7: =$N7*(L7/100) -> 15.6 | AA7: =$U7*(Q7/100) -> 58.99 | AB7: =$U7*(R7/100) -> 5.1 | AC7: =$U7*(S7/100) -> 8.5 | AD7: =$U7*(T7/100) -> 8.5
A8: Field 4 | B8: 98 | C8: =VLOOKUP(A8,'Crop Plan'!$A$4:$K$27,8,FALSE) -> Durum | D8: =VLOOKUP(A8,'Crop Plan'!$A$4:$K$27,9,FALSE) -> 0 | E8: 73 | G8: =SUM(Y8,AA8,) -> 62.29 | H8: =SUM(Z8,AB8) -> 20.7 | I8: =AC8 -> 8.5 | J8: =AD8 -> 8.5 | K8: 11 | L8: 52 | M8: 0 | N8: 30 | O8: lbs/ac | P8: =(N8*B8)/2204.6 -> 1.3335753 | Q8: 34.7 | R8: 3 | S8: 5 | T8: 5 | U8: 170 | V8: lbs/ac | W8: =((U8*B8)/2204.6) -> 7.5569264 | Y8: =$N8*(K8/100) -> 3.3 | Z8: =$N8*(L8/100) -> 15.6 | AA8: =$U8*(Q8/100) -> 58.99 | AB8: =$U8*(R8/100) -> 5.1 | AC8: =$U8*(S8/100) -> 8.5 | AD8: =$U8*(T8/100) -> 8.5
A9: Field 5 | B9: 99 | C9: =VLOOKUP(A9,'Crop Plan'!$A$4:$K$27,8,FALSE) -> Durum | D9: =VLOOKUP(A9,'Crop Plan'!$A$4:$K$27,9,FALSE) -> 0 | E9: 74 | G9: =SUM(Y9,AA9,) -> 62.29 | H9: =SUM(Z9,AB9) -> 20.7 | I9: =AC9 -> 8.5 | J9: =AD9 -> 8.5 | K9: 11 | L9: 52 | M9: 0 | N9: 30 | O9: lbs/ac | P9: =(N9*B9)/2204.6 -> 1.3471832 | Q9: 34.7 | R9: 3 | S9: 5 | T9: 5 | U9: 170 | V9: lbs/ac | W9: =((U9*B9)/2204.6) -> 7.6340379 | Y9: =$N9*(K9/100) -> 3.3 | Z9: =$N9*(L9/100) -> 15.6 | AA9: =$U9*(Q9/100) -> 58.99 | AB9: =$U9*(R9/100) -> 5.1 | AC9: =$U9*(S9/100) -> 8.5 | AD9: =$U9*(T9/100) -> 8.5
A10: Field 6 | B10: 100 | C10: =VLOOKUP(A10,'Crop Plan'!$A$4:$K$27,8,FALSE) -> Durum | D10: =VLOOKUP(A10,'Crop Plan'!$A$4:$K$27,9,FALSE) -> 0 | E10: 75 | G10: =SUM(Y10,AA10,) -> 62.29 | H10: =SUM(Z10,AB10) -> 20.7 | I10: =AC10 -> 8.5 | J10: =AD10 -> 8.5 | K10: 11 | L10: 52 | M10: 0 | N10: 30 | O10: lbs/ac | P10: =(N10*B10)/2204.6 -> 1.3607911 | Q10: 34.7 | R10: 3 | S10: 5 | T10: 5 | U10: 170 | V10: lbs/ac | W10: =((U10*B10)/2204.6) -> 7.7111494 | Y10: =$N10*(K10/100) -> 3.3 | Z10: =$N10*(L10/100) -> 15.6 | AA10: =$U10*(Q10/100) -> 58.99 | AB10: =$U10*(R10/100) -> 5.1 | AC10: =$U10*(S10/100) -> 8.5 | AD10: =$U10*(T10/100) -> 8.5
A11: Field 7 | B11: 101 | C11: =VLOOKUP(A11,'Crop Plan'!$A$4:$K$27,8,FALSE) -> Durum | D11: =VLOOKUP(A11,'Crop Plan'!$A$4:$K$27,9,FALSE) -> 0 | E11: 76 | G11: =SUM(Y11,AA11,) -> 62.29 | H11: =SUM(Z11,AB11) -> 20.7 | I11: =AC11 -> 8.5 | J11: =AD11 -> 8.5 | K11: 11 | L11: 52 | M11: 0 | N11: 30 | O11: lbs/ac | P11: =(N11*B11)/2204.6 -> 1.374399 | Q11: 34.7 | R11: 3 | S11: 5 | T11: 5 | U11: 170 | V11: lbs/ac | W11: =((U11*B11)/2204.6) -> 7.7882609 | Y11: =$N11*(K11/100) -> 3.3 | Z11: =$N11*(L11/100) -> 15.6 | AA11: =$U11*(Q11/100) -> 58.99 | AB11: =$U11*(R11/100) -> 5.1 | AC11: =$U11*(S11/100) -> 8.5 | AD11: =$U11*(T11/100) -> 8.5
A12: Field 8 | B12: 102 | C12: =VLOOKUP(A12,'Crop Plan'!$A$4:$K$27,8,FALSE) -> Durum | D12: =VLOOKUP(A12,'Crop Plan'!$A$4:$K$27,9,FALSE) -> 0 | E12: 77 | G12: =SUM(Y12,AA12,) -> 62.29 | H12: =SUM(Z12,AB12) -> 20.7 | I12: =AC12 -> 8.5 | J12: =AD12 -> 8.5 | K12: 11 | L12: 52 | M12: 0 | N12: 30 | O12: lbs/ac | P12: =(N12*B12)/2204.6 -> 1.3880069 | Q12: 34.7 | R12: 3 | S12: 5 | T12: 5 | U12: 170 | V12: lbs/ac | W12: =((U12*B12)/2204.6) -> 7.8653724 | Y12: =$N12*(K12/100) -> 3.3 | Z12: =$N12*(L12/100) -> 15.6 | AA12: =$U12*(Q12/100) -> 58.99 | AB12: =$U12*(R12/100) -> 5.1 | AC12: =$U12*(S12/100) -> 8.5 | AD12: =$U12*(T12/100) -> 8.5
A13: Field 9 | B13: 103 | C13: =VLOOKUP(A13,'Crop Plan'!$A$4:$K$27,8,FALSE) -> Peas | D13: =VLOOKUP(A13,'Crop Plan'!$A$4:$K$27,9,FALSE) -> 0 | E13: 78 | G13: =SUM(Y13,AA13,) -> 61.1 | H13: =SUM(Z13,AB13) -> 20.7 | I13: =AC13 -> 0 | J13: =AD13 -> 13.6 | K13: 11 | L13: 52 | M13: 0 | N13: 30 | O13: lbs/ac | P13: =(N13*B13)/2204.6 -> 1.4016148 | Q13: 34 | R13: 3 | S13: 0 | T13: 8 | U13: 170 | V13: lbs/ac | W13: =((U13*B13)/2204.6) -> 7.9424839 | Y13: =$N13*(K13/100) -> 3.3 | Z13: =$N13*(L13/100) -> 15.6 | AA13: =$U13*(Q13/100) -> 57.8 | AB13: =$U13*(R13/100) -> 5.1 | AC13: =$U13*(S13/100) -> 0 | AD13: =$U13*(T13/100) -> 13.6
A14: Field 10 | B14: 104 | C14: =VLOOKUP(A14,'Crop Plan'!$A$4:$K$27,8,FALSE) -> Peas | D14: =VLOOKUP(A14,'Crop Plan'!$A$4:$K$27,9,FALSE) -> 0 | E14: 79 | G14: =SUM(Y14,AA14,) -> 61.1 | H14: =SUM(Z14,AB14) -> 20.7 | I14: =AC14 -> 0 | J14: =AD14 -> 13.6 | K14: 11 | L14: 52 | M14: 0 | N14: 30 | O14: lbs/ac | P14: =(N14*B14)/2204.6 -> 1.4152227 | Q14: 34 | R14: 3 | S14: 0 | T14: 8 | U14: 170 | V14: lbs/ac | W14: =((U14*B14)/2204.6) -> 8.0195954 | Y14: =$N14*(K14/100) -> 3.3 | Z14: =$N14*(L14/100) -> 15.6 | AA14: =$U14*(Q14/100) -> 57.8 | AB14: =$U14*(R14/100) -> 5.1 | AC14: =$U14*(S14/100) -> 0 | AD14: =$U14*(T14/100) -> 13.6
A15: Field 11 | B15: 105 | C15: =VLOOKUP(A15,'Crop Plan'!$A$4:$K$27,8,FALSE) -> Lentils | D15: =VLOOKUP(A15,'Crop Plan'!$A$4:$K$27,9,FALSE) -> 0 | E15: 80 | G15: =SUM(Y15,AA15,) -> 61.1 | H15: =SUM(Z15,AB15) -> 20.7 | I15: =AC15 -> 0 | J15: =AD15 -> 13.6 | K15: 11 | L15: 52 | M15: 0 | N15: 30 | O15: lbs/ac | P15: =(N15*B15)/2204.6 -> 1.4288306 | Q15: 34 | R15: 3 | S15: 0 | T15: 8 | U15: 170 | V15: lbs/ac | W15: =((U15*B15)/2204.6) -> 8.0967069 | Y15: =$N15*(K15/100) -> 3.3 | Z15: =$N15*(L15/100) -> 15.6 | AA15: =$U15*(Q15/100) -> 57.8 | AB15: =$U15*(R15/100) -> 5.1 | AC15: =$U15*(S15/100) -> 0 | AD15: =$U15*(T15/100) -> 13.6
A16: Field 12 | B16: 106 | C16: =VLOOKUP(A16,'Crop Plan'!$A$4:$K$27,8,FALSE) -> Wheat | D16: =VLOOKUP(A16,'Crop Plan'!$A$4:$K$27,9,FALSE) -> 0 | E16: 81 | G16: =SUM(Y16,AA16,) -> 62.29 | H16: =SUM(Z16,AB16) -> 20.7 | I16: =AC16 -> 8.5 | J16: =AD16 -> 8.5 | K16: 11 | L16: 52 | M16: 0 | N16: 30 | O16: lbs/ac | P16: =(N16*B16)/2204.6 -> 1.4424385 | Q16: 34.7 | R16: 3 | S16: 5 | T16: 5 | U16: 170 | V16: lbs/ac | W16: =((U16*B16)/2204.6) -> 8.1738184 | Y16: =$N16*(K16/100) -> 3.3 | Z16: =$N16*(L16/100) -> 15.6 | AA16: =$U16*(Q16/100) -> 58.99 | AB16: =$U16*(R16/100) -> 5.1 | AC16: =$U16*(S16/100) -> 8.5 | AD16: =$U16*(T16/100) -> 8.5
... A28: Field 24 | B28: 118 | C28: =VLOOKUP(A28,'Crop Plan'!$A$4:$K$27,8,FALSE) -> Wheat | D28: =VLOOKUP(A28,'Crop Plan'!$A$4:$K$27,9,FALSE) -> 0 | E28: 93 | G28: =SUM(Y28,AA28,) -> 62.29 | H28: =SUM(Z28,AB28) -> 20.7 | I28: =AC28 -> 8.5 | J28: =AD28 -> 8.5 | K28: 11 | L28: 52 | M28: 0 | N28: 30 | O28: lbs/ac | P28: =(N28*B28)/2204.6 -> 1.6057335 | Q28: 34.7 | R28: 3 | S28: 5 | T28: 5 | U28: 170 | V28: lbs/ac | W28: =((U28*B28)/2204.6) -> 9.0991563 | Y28: =$N28*(K28/100) -> 3.3 | Z28: =$N28*(L28/100) -> 15.6 | AA28: =$U28*(Q28/100) -> 58.99 | AB28: =$U28*(R28/100) -> 5.1 | AC28: =$U28*(S28/100) -> 8.5 | AD28: =$U28*(T28/100) -> 8.5
B30: Acres
A31: Durum | B31: =VLOOKUP(A31,'Crop Plan'!$G$31:$H$38,2,FALSE) -> 1315 | D31: Notes: | U31: MT total
A32: Wheat | B32: =VLOOKUP(A32,'Crop Plan'!$G$31:$H$38,2,FALSE) -> 2730 | P32: Phos | Q32: 11 | R32: 52 | S32: 0 | T32: 0 | U32: =SUMIF(K5:K28,Q32,P5:P28) -> 34.78182
A33: Canola | B33: =VLOOKUP(A33,'Crop Plan'!$G$31:$H$38,2,FALSE) -> 2140 | P33: Cereal | Q33: 34.7 | R33: 3 | S33: 5 | T33: 5 | U33: =SUMIF(T5:T28,T33,W5:W28) -> 96.929148
A34: Lentils | B34: =VLOOKUP(A34,'Crop Plan'!$G$31:$H$38,2,FALSE) -> 150 | P34: Canola | Q34: 34 | R34: 3 | S34: 0 | T34: 8 | U34: =SUMIF(T5:T28,T34,W5:W28) -> 100.16783
A35: Peas | B35: =VLOOKUP(A35,'Crop Plan'!$G$31:$H$38,2,FALSE) -> 490
A36: Barley | B36: =VLOOKUP(A36,'Crop Plan'!$G$31:$H$38,2,FALSE) -> 0
A37: ChickPeas | B37: =VLOOKUP(A37,'Crop Plan'!$G$31:$H$38,2,FALSE) -> 0
A38: Flax | B38: =VLOOKUP(A38,'Crop Plan'!$G$31:$H$38,2,FALSE) -> 0
